Workbook

Sheet 入力シート
A1: 地区計画区域内行為届出入力シート
H2: 区画形質変更 | I2: 建 築 | U2: 用途変更 | X2: 意匠の変更 | Y2: 木竹の伐採
A3: 要入力 | D3: 大字から入力 | G3: プルダウン | H3: 要入力 | I3: プルダウン | K3: 要入力 | U3: 要入力 | X3: 要入力 | Y3: 要入力
A4: 届出年月日 | B4: 届出者住所 | C4: 届出者氏名 | D4: 行為地番 | E4: 着手予定日 | F4: 完了予定日 | G4: 届出行為 | H4: 区域面積 | I4: 行為種別 | K4: 敷地面積 | L4: 建築面積 （届出部） | M4: 建築面積 （届出以外） | N4: 延床面積 （届出部） | O4: 延床面積 （届出以外） | P4: 住宅の用に供する延床面積 （届出部） | Q4: 住宅の用に供する延床面積 （届出以外） | R4: 高さ | S4: 予定建築物 | T4: 垣又は柵の構造 | U4: 変更する 延床面積 | V4: 変更前用途 | W4: 変更後用途 | X4: 変更の内容 | Y4: 伐採面積
A5: 46296 | B5: 菰野町大字潤田1250番地 | C5: 菰野 太郎 | D5: 大字潤田字落合700-500 | E5: 46327 | F5: 46507 | G5: 建築物の建築又は工作物の建設 | I5: 建築物の建築 | J5: 新築 | K5: 200 | L5: 90.5 | N5: 90.5 | P5: 90.5 | R5: 7 | S5: 一戸建て専用住宅 | T5: CB積+メッシュフェンスH800
C6: 菰野 花子
A7: 46296 | B7: 菰野町大字潤田1250番地 | C7: 菰野 太郎 | D7: 大字潤田字落合700-500 | E7: 46327 | F7: 46507 | G7: 建築物等の形態又は意匠の変更 | I7: 建築物の建築 | J7: 新築 | K7: 200 | L7: 90.5 | N7: 90.5 | P7: 90.5 | R7: 7 | S7: 一戸建て専用住宅 | T7: CB積+メッシュフェンスH800
C10: 連絡先
B11: ＴＥＬ | C11: 090-1234-5678 | D11: ※代理申請の場合は、下記へご入力ください。
C13: 代理申請の場合
B14: 会社名 | C14: 株式会社 菰野町
B15: 担当者 | C15: 菰野 次郎
B16: ＴＥＬ | C16: 090-1234-5678

Sheet 印刷シート
B1: 様式第１号（第２条関係）
B3: 地区計画の区域内における行為の届出書
Q4: =入力シート!A7 -> 46296
B5: （届出先）菰野町長
L6: 届出者 住所 | O6: =入力シート!B7 -> 菰野町大字潤田1250番地
L7: 氏名 | O7: =IF(入力シート!C8="",入力シート!C7,入力シート!C7&"、"&入力シート!C8) -> 菰野 太郎
L8: 連絡先 | P8: =IF(入力シート!C11=0,"",入力シート!C11) -> 090-1234-5678
B9: 都市計画法第58条の２第１項の規定に基づき、 | N9: =IF(入力シート!C14=0,"","代理者："&入力シート!C14) -> 代理者：株式会社 菰野町
B10: 土地の区画形質の変更 | N10: =IF(入力シート!C15=0,"","担当者："&入力シート!C15)&IF(入力シート!C16="",""," TEL："&入力シート!C16) -> 担当者：菰野 次郎 TEL：090-1234-5678
B11: 建築物の建築又は工作物の建設
B12: 建築物等の用途の変更 | J12: について、下記により届け出ます。
B13: 建築物等の形態又は意匠の変更
B14: 木竹の伐採
B15: 土石、廃棄物又は再生資源の堆積
B16: 記
B17: １ 行為の場所 | H17: 菰野町 | I17: =入力シート!D7 -> 大字潤田字落合700-500
B18: ２ 行為の着手予定日 | I18: =入力シート!E7 -> 46327
B19: ３ 行為の完了予定日 | I19: =入力シート!F7 -> 46507
B20: ４ 設計又は施行方法
B21: (１) 土地の区画形質の変更 | I21: 区域の面積 | M21: =IF(入力シート!H7=0,"―",入力シート!H7) -> ― | P21: ㎡
B22: (２) | C22: (イ) 行為の種別 | H22: ( | I22: =入力シート!I7 -> 建築物の建築 | M22: ) | N22: ( | O22: =入力シート!J7 -> 新築 | Q22: )
B23: 建築物の建築 | C23: (ロ) | J23: 届出部分 | N23: 届出以外の部分 | R23: 合 計
C24: 設計の概要 | D24: (ⅰ) 敷地面積 | R24: =入力シート!K7 -> 200 | U24: ㎡
D25: (ⅱ) 建築又は建設面積 | J25: =入力シート!L7 -> 90.5 | M25: ㎡ | N25: =IF(入力シート!M7=0,"―",入力シート!M7) -> ― | Q25: ㎡ | R25: =IF(入力シート!M7=0,J25,J25+N25) -> 90.5 | U25: ㎡
D26: (ⅲ) 延べ面積 | J26: =入力シート!N7 -> 90.5 | M26: ㎡ | N26: =IF(入力シート!O7=0,"―",入力シート!O7) -> ― | Q26: ㎡ | R26: =IF(入力シート!O7=0,J26,J26+N26) -> 90.5 | U26: ㎡
J27: ( | K27: =入力シート!P7 -> 90.5 | M27: ㎡) | N27: ( | O27: =IF(入力シート!Q7=0,"―",入力シート!Q7) -> ― | Q27: ㎡) | R27: （ | S27: =IF(入力シート!Q7=0,K27,K27+O27) -> 90.5 | U27: ㎡)
B28: 又は | D28: (ⅳ) 敷地の地盤面の高さ | J28: (ⅶ) 緑化施設の面積
B29: 工作物の建設 | G29: から | H29: ― | I29: ｍ | J29: ― | U29: ㎡
D30: (ⅴ) 高さ | J30: (ⅷ) 用途
D31: 地盤面から | H31: =入力シート!R7 -> 7 | I31: ｍ | J31: =入力シート!S7 -> 一戸建て専用住宅
D32: (ⅵ) 居室の床面の高さ | J32: (ⅸ) 垣又は柵の構造
G33: から | H33: ― | I33: ｍ | J33: =入力シート!T7 -> CB積+メッシュフェンスH800
B34: (３) | D34: (イ) 変更部分の延べ面積 | J34: (ロ) 変更前の用途 | P34: (ハ) 変更後の用途
B35: 建築物等 の用途の 変更 | D35: =IF(入力シート!U7="","―",入力シート!U7) -> ― | I35: ㎡ | J35: =IF(入力シート!V7="","―",入力シート!V7) -> ― | P35: =IF(入力シート!W7="","―",入力シート!W7) -> ―
B37: (４) 建築物の形態又は意匠の変更 | I37: 変更の内容 | L37: =IF(入力シート!X7="","―",入力シート!X7) -> ―
B38: (５) 木竹の伐採 | I38: 伐採面積 | L38: =IF(入力シート!Y7="","―",入力シート!Y7) -> ― | P38: ㎡
B39: (６) 土石、廃棄物又は再生資源 の堆積 | I39: 物件の堆積を行う土地の面積 | P39: 物件の種類
I40: ― | O40: ㎡ | P40: ―
B47: 備考
B48: １ 届出者が法人である場合においては、氏名は、その法人の名称及び代表者の氏名を記載すること。
...

Sheet プルダウンリスト
A2: 行為種別 | B2: 物の別 | C2: 建築種別
A3: 土地の区画形質の変更 | B3: 建築物の建築 | C3: 新築
A4: 建築物の建築又は工作物の建設 | B4: 工作物の建築 | C4: 改築
A5: 建築物等の用途の変更 | C5: 増築
A6: 建築物等の形態又は意匠の変更 | C6: 移転
A7: 木竹の伐採
